BEGIN:VCALENDAR
VERSION:2.0
PRODID:-//Plone.org//NONSGML plone.app.event//EN
X-WR-TIMEZONE:Brazil/East
BEGIN:VEVENT
SUMMARY:REUNIÃO DA CÂMARA MUNICIPAL DE VIRGÍNIA
DTSTART;TZID=Brazil/East;VALUE=DATE-TIME:20180205T180000
DTEND;TZID=Brazil/East;VALUE=DATE-TIME:20180205T210000
DTSTAMP;VALUE=DATE-TIME:20260421T121028Z
UID:1874720ccef14cd683140c3156c105ed@virginia.mg.leg.br
ATTENDEE;CN="VEREADORES E POPULAÇÃO EM GERAL";ROLE=REQ-PARTICIPANT:VEREA
 DORES E POPULAÇÃO EM GERAL
CONTACT:LUIZ ALBERTO RIBEIRO\, 3599983-9443\, vereadorluizalbertoribeiro@h
 otmail.com
CREATED;VALUE=DATE-TIME:20180118T131225Z
DESCRIPTION:REUNIÃO DA CÂMARA MUNICIPAL
LAST-MODIFIED;VALUE=DATE-TIME:20180118T131353Z
LOCATION:PRÉDIO DO CÂMARA
URL:https://www.virginia.mg.leg.br/institucional/eventos/reuniao-da-camara
 -municipal-de-virginia
END:VEVENT
BEGIN:VTIMEZONE
TZID:Brazil/East
X-LIC-LOCATION:Brazil/East
BEGIN:DAYLIGHT
DTSTART;VALUE=DATE-TIME:20171015T010000
TZNAME:BRST
TZOFFSETFROM:-0300
TZOFFSETTO:-0200
END:DAYLIGHT
END:VTIMEZONE
END:VCALENDAR
