BEGIN:VCALENDAR
VERSION:2.0
PRODID:-//Plone.org//NONSGML plone.app.event//EN
X-WR-TIMEZONE:Brazil/East
BEGIN:VEVENT
SUMMARY:REUNIÃO DA CÂMARA MUNICIPAL
DTSTART;TZID=Brazil/East;VALUE=DATE-TIME:20171204T180000
DTEND;TZID=Brazil/East;VALUE=DATE-TIME:20171204T210000
DTSTAMP;VALUE=DATE-TIME:20260421T111335Z
UID:ab8705e969ef45a7ad52b12754f7d646@www.virginia.mg.leg.br
ATTENDEE;CN="VEREADORES E POPULAÇÃO";ROLE=REQ-PARTICIPANT:VEREADORES E P
 OPULAÇÃO
CONTACT:LUIZ ALBERTO RIBEIRO\, 3599983-9443\, vereadorluizalbertoribeiro@h
 otmai.com
CREATED;VALUE=DATE-TIME:20170922T191658Z
LAST-MODIFIED;VALUE=DATE-TIME:20170922T191703Z
LOCATION:PRÉDIO DA CÂMARA MUNICIPAL
URL:https://www.virginia.mg.leg.br/institucional/eventos/reuniao-da-camara
 -municipal-8
END:VEVENT
BEGIN:VTIMEZONE
TZID:Brazil/East
X-LIC-LOCATION:Brazil/East
BEGIN:DAYLIGHT
DTSTART;VALUE=DATE-TIME:20171015T010000
TZNAME:BRST
TZOFFSETFROM:-0300
TZOFFSETTO:-0200
END:DAYLIGHT
END:VTIMEZONE
END:VCALENDAR
